BEGIN:VCALENDAR
VERSION:2.0
PRODID:icalendar-ruby
CALSCALE:GREGORIAN
METHOD:PUBLISH
BEGIN:VEVENT
DTSTAMP:20260421T203259Z
UID:5e30ba8d-0c41-4721-a0ba-cdebf18f5ea7
DTSTART:20221226T140000
DTEND:20221226T220000
DESCRIPTION:<p><span style="color: rgb(0\, 0\, 0)\; background-color: trans
 parent\;">Cape Town\, Corona Chasing Sunsets has arrived. Call your friend
 s and enjoy a beautiful day unwinding and relaxing in the sun with local s
 ensation Goldfish! </span></p><p><span style="color: rgb(0\, 0\, 0)\; bac
 kground-color: transparent\;">Date: 26 December 2022</span></p><p><span st
 yle="color: rgb(0\, 0\, 0)\; background-color: transparent\;">Time: 2pm</s
 pan></p><p><span style="color: rgb(0\, 0\, 0)\; background-color: transpar
 ent\;">Venue: Grand Africa Cafe & Beach - Cape Town</span></p><p><span sty
 le="color: rgb(0\, 0\, 0)\; background-color: transparent\;">Artists:</spa
 n></p><p><span style="color: rgb(0\, 0\, 0)\; background-color: transparen
 t\;">Goldfish | Andy Baxter | Leighton Moody & Cassiem Latief | Kyle Cassi
 m | Jordan Arts | Meek</span></p><p><br></p><p><span style="color: rgb(0\,
  0\, 0)\; background-color: transparent\;">SET TIMES</span></p><p><span st
 yle="color: rgb(0\, 0\, 0)\; background-color: transparent\;">14:00 - Meek
  </span></p><p><span style="color: rgb(0\, 0\, 0)\; background-color: tra
 nsparent\;">15:00 - Leighton Moody & Cassiem Latief </span></p><p><span s
 tyle="color: rgb(0\, 0\, 0)\; background-color: transparent\;">16:30 - Jor
 dan Arts</span></p><p><span style="color: rgb(0\, 0\, 0)\; background-colo
 r: transparent\;">17:30 - Kyle Cassim </span></p><p><span style="color: r
 gb(0\, 0\, 0)\; background-color: transparent\;">18:30 - Andy Baxter</span
 ></p><p><span style="color: rgb(0\, 0\, 0)\; background-color: transparent
 \;">20:00 - Sunset Moment </span></p><p><span style="color: rgb(0\, 0\, 0
 )\; background-color: transparent\;">20:15 - Goldfish </span></p><p><span
  style="color: rgb(0\, 0\, 0)\; background-color: transparent\;">22:00 - K
 urt April </span></p><p><span style="color: rgb(0\, 0\, 0)\; background-c
 olor: transparent\;">23:30 - Mia </span></p><p><br></p><p><span style="col
 or: rgb(0\, 0\, 0)\; background-color: transparent\;">For tickets & more i
 nformation visit:</span><a href="https://l.facebook.com/l.php?u=https%3A%2
 F%2Fcorona.howler.co.za%2F%3Ffbclid%3DIwAR1aQ_hEC708hrxL9nPshbktA7N4EyQmw9
 YlPF2iIaZi3Eb3QzvuoIh57tc&h=AT3Q8TXsjMWGS7XbGHv_hzOMZp9AnpzMsWmlZlNt5MKSd3
 4lCcDVCwwhJUVHo6u5KU1zRFVzKWYctTCeY7q3Le5PXHGgr0wmX_Mna5fcEEnx2m1v858rPznl
 NcPW6qi2IFowF3XcUQ&__tn__=-UK-R&c[0]=AT27y-W0Wbdaxsp1z41Y-ONkS7I_zRzXM6XrL
 1Y-u0SmFC6XgxZE2YScge3pRH_3-K2JcsAR8qeoeFUjmm_w8dnBS1QbBxYMfF8kwWN5NgCn8Cd
 zntD_WK4onah2Ju9_on84u_9dzE0d9z2C8CNrDXOmsXWKmSALOhQ-uvvHMmXb-TMpy-wCByEnn
 0aZ9tupMRVfoB8" target="_blank" style="color: rgb(0\, 0\, 0)\; background-
 color: transparent\;"> </a><a href="https://corona.howler.co.za/" target="
 _blank" style="color: rgb(0\, 0\, 0)\; background-color: transparent\;">ht
 tps://corona.howler.co.za/</a><span style="color: rgb(0\, 0\, 0)\; backgro
 und-color: transparent\;">  </span></p><p>Register NOW for Corona Sunset
 s Festival announcements at: <a href="https://bit.ly/3OWlj3N?fbclid=IwAR1W
 wPetYw4VHvuJLpvZ4Wl0IfGhqPYfuUlr8YLzxOEWNkFHzE2NFQD30Ow" target="_blank" s
 tyle="color: rgb(220\, 161\, 13)\;">https://bit.ly/3OWlj3N</a> </p><p>Whe
 re the sun always shines and the memories last a lifetime\, be sure to reg
 ister for access to festival dates & artist announcements\, ticket release
 s and so much more...</p><p><a href="https://www.facebook.com/hashtag/this
 isliving?__eep__=6&__cft__[0]=AZUZ3iLdPsZyaT7zNk3evPKcWzE8Vf6gQAW56cqVs--L
 FoNQ9UgPwNmEKGrnhX9eVDGaf9cL_W3tglqmRQcWLKA9obdgUDKucw--nim0oh9mRC3GlV29J6
 DBVZRBg4fkDu414wtDAJ0X2LHNjDa-I-RTs_pZtqUFHsr4Xf6eLqpM9zCV-XgejJ9ktZ4aEXXZ
 Tb0&__tn__=*NK-R" target="_blank" style="color: rgb(0\, 0\, 0)\; backgroun
 d-color: transparent\;">#ThisIsLiving</a><a href="https://www.facebook.com
 /hashtag/coronasunsets?__eep__=6&__cft__[0]=AZUZ3iLdPsZyaT7zNk3evPKcWzE8Vf
 6gQAW56cqVs--LFoNQ9UgPwNmEKGrnhX9eVDGaf9cL_W3tglqmRQcWLKA9obdgUDKucw--nim0
 oh9mRC3GlV29J6DBVZRBg4fkDu414wtDAJ0X2LHNjDa-I-RTs_pZtqUFHsr4Xf6eLqpM9zCV-X
 gejJ9ktZ4aEXXZTb0&__tn__=*NK-R" target="_blank" style="color: rgb(0\, 0\, 
 0)\; background-color: transparent\;"> #C</a><span style="color: rgb(0\, 0
 \, 0)\; background-color: transparent\;">hasingSunsets</span></p><p><span 
 style="color: rgb(0\, 0\, 0)\; background-color: transparent\;">Not for pe
 rsons under the age of 18. </span></p><p><br></p><p><br></p>
LOCATION: V&A Waterfront\, Grand Africa Café & Beach\, Granger Bay 1 Haul 
 Rd
SUMMARY:Corona Chasing Sunsets with Goldfish - Grand Africa Cafe & Beach 26
  December 
URL;VALUE=URI:https://corona.howler.co.za/chasingsunsets26dec
END:VEVENT
END:VCALENDAR
