BEGIN:VCALENDAR
VERSION:2.0
PRODID:icalendar-ruby
CALSCALE:GREGORIAN
METHOD:PUBLISH
BEGIN:VEVENT
DTSTAMP:20260424T171705Z
UID:45d89e85-dbc8-4075-af7e-7d482a28079a
DTSTART:20251214T140000
DTEND:20251215T000000
DESCRIPTION:<p>Corona Sunsets Summer Tour returns as we continue celebratin
 g 100 Years Under The Sun. </p><p>From gardens to beaches to island shore
 s\, every experience under a magical sunset.</p><p>14 December - Grand Afr
 ica Café & Beach\, Cape Town </p><p>Doors open at 14h00. Come early to e
 njoy lunch & a full day of experiences.</p><p>SET TIMES</p><p><span>14:00 
 - 15:30 | Rudy Julius</span></p><p><span>15:30 - 17:00 | Roz </span></p><
 p><span>17:00 - 18:30 | FKA Mash</span></p><p><span>18:30 - 19:30 | Msaki
  </span></p><p><span>19:45 - 20:00 | SUNSET MOMENT</span></p><p><span>20:
 00 - 21:00 | Goodluck </span></p><p><span>21:00 - 22:00 | Crazy White Boy
 </span></p><p><span>22:00 - 00:00 | Jevan Binder</span></p><p>Tickets on s
 ale now at <a href="http://corona.howler.co.za/" target="_blank" style="co
 lor: rgb(118\, 79\, 219)\;">corona.howler.co.za</a> </p><p><span style="c
 olor: rgb(0\, 0\, 0)\;">Follow Corona on X </span><a href="https://x.com/C
 oronaAfrica" target="_blank" style="color: rgb(0\, 0\, 0)\;"><u>HERE</u></
 a>.</p><p><span style="color: rgb(0\, 0\, 0)\;">This event is proudly pres
 ented by Anything Goes - follow us on Instagram </span><a href="https://ww
 w.instagram.com/anythinggoessa/" target="_blank" style="color: rgb(0\, 0\,
  0)\;"><u>HERE</u></a>.</p><p>#Corona100 #CoronaSummerTour</p>
LOCATION:Granger Bay 1 Haul Road\, Granger Bay blvd Cape Town\, 8005
SUMMARY:Corona Sunsets Summer Tour 2025 - Grand Africa Cafe\, Cape Town
URL;VALUE=URI:https://corona.howler.co.za/CSST25GRAND
END:VEVENT
END:VCALENDAR
