BEGIN:VCALENDAR
VERSION:2.0
PRODID:icalendar-ruby
CALSCALE:GREGORIAN
METHOD:PUBLISH
BEGIN:VEVENT
DTSTAMP:20260420T150154Z
UID:86f84e5c-5806-4600-8a64-2cb4cb44c9e5
DTSTART:20251229T120000
DTEND:20251229T210000
DESCRIPTION:<p>Corona Sunsets Summer Tour returns as we continue celebratin
 g 100 Years Under The Sun. </p><p>From gardens to beaches to island shore
 s\, every experience under a magical sunset.</p><p>29 December - Stanley I
 sland\, Plettenberg Bay</p><p>SET TIMES</p><p><span>12:00 - 12:45 | Pixie 
 Whip</span></p><p><span>12:45 - 14:00 | Touch of Madness</span></p><p><spa
 n>14:00 - 15:00 | Daddy's House </span></p><p><span>15:00 - 16:30 | Kix</
 span></p><p><span>16:30 - 18:00 | FKA Mash</span></p><p><span>18:00 - 19:3
 0 | Jordan Arts</span></p><p><span>19:30 - 19:45 | SUNSET MOMENT </span><
 /p><p><span>19:45 - 21:00 | Ryan Murgatroyd</span></p><p>Tickets on sale n
 ow at <a href="http://corona.howler.co.za/" target="_blank" style="color: 
 rgb(118\, 79\, 219)\;">corona.howler.co.za</a> </p><p><span style="color:
  rgb(0\, 0\, 0)\;">Follow Corona on X </span><a href="https://x.com/Corona
 Africa" target="_blank" style="color: rgb(0\, 0\, 0)\;"><u>HERE</u></a>.</
 p><p><span style="color: rgb(0\, 0\, 0)\;">This event is proudly presented
  by Anything Goes - follow us on Instagram </span><a href="https://www.ins
 tagram.com/anythinggoessa/" target="_blank" style="color: rgb(0\, 0\, 0)\;
 "><u>HERE</u></a>.</p><p>#Corona100 #CoronaSummerTour</p>
LOCATION:Greater\, Plettenberg Bay\, 6600
SUMMARY:Corona Sunsets Summer Tour 2025 - Stanley Island\, Plettenberg Bay
URL;VALUE=URI:https://corona.howler.co.za/CSST25STANLEY
END:VEVENT
END:VCALENDAR
